BEGIN:VCALENDAR
VERSION:2.0
PRODID:-//Festival du Cinéma Espagnol de Nantes - ECPv6.10.2//NONSGML v1.0//EN
CALSCALE:GREGORIAN
METHOD:PUBLISH
X-WR-CALNAME:Festival du Cinéma Espagnol de Nantes
X-ORIGINAL-URL:https://www.cinespagnol-nantes.com
X-WR-CALDESC:Évènements pour Festival du Cinéma Espagnol de Nantes
REFRESH-INTERVAL;VALUE=DURATION:PT1H
X-Robots-Tag:noindex
X-PUBLISHED-TTL:PT1H
BEGIN:VTIMEZONE
TZID:Europe/Paris
BEGIN:DAYLIGHT
TZOFFSETFROM:+0100
TZOFFSETTO:+0200
TZNAME:CEST
DTSTART:20220327T010000
END:DAYLIGHT
BEGIN:STANDARD
TZOFFSETFROM:+0200
TZOFFSETTO:+0100
TZNAME:CET
DTSTART:20221030T010000
END:STANDARD
END:VTIMEZONE
BEGIN:VEVENT
DTSTART;TZID=Europe/Paris:20220309T203000
DTEND;TZID=Europe/Paris:20220309T203000
DTSTAMP:20260421T185419
CREATED:20220310T182220Z
LAST-MODIFIED:20220310T182232Z
UID:31457-1646857800-1646857800@www.cinespagnol-nantes.com
SUMMARY:La vida era eso
DESCRIPTION:La vida era eso de David Martín de los Santos\, suivi d’une rencontre avec le réalisateur
URL:https://www.cinespagnol-nantes.com/evenement/la-vida-era-eso/
LOCATION:Cinéma Katorza\, 3 Rue Corneille\, Nantes\, 44000\, France
CATEGORIES:FCEN 2022,Rencontres en salles
END:VEVENT
BEGIN:VEVENT
DTSTART;TZID=Europe/Paris:20220310T213000
DTEND;TZID=Europe/Paris:20220310T213000
DTSTAMP:20260421T185419
CREATED:20220310T184827Z
LAST-MODIFIED:20220310T194922Z
UID:31462-1646947800-1646947800@www.cinespagnol-nantes.com
SUMMARY:Abuela
DESCRIPTION:Abuela de Paco Plaza en présence de l’actrice Almudena Amor (dans le cadre de l’Absurde séance)
URL:https://www.cinespagnol-nantes.com/evenement/abuela/
LOCATION:Cinéma Katorza\, 3 Rue Corneille\, Nantes\, 44000\, France
CATEGORIES:FCEN 2022,Rencontres en salles
END:VEVENT
BEGIN:VEVENT
DTSTART;TZID=Europe/Paris:20220311T141500
DTEND;TZID=Europe/Paris:20220311T141500
DTSTAMP:20260421T185419
CREATED:20220310T185337Z
LAST-MODIFIED:20220310T185337Z
UID:31464-1647008100-1647008100@www.cinespagnol-nantes.com
SUMMARY:¡Ay\, Carmela! & Rosa Rosae. La guerra civil
DESCRIPTION:¡Ay\, Carmela! de Carlos Saura (précédé du court-métrage Rosa Rosae. La guerra civil) en présence de Arantxa Aguirre
URL:https://www.cinespagnol-nantes.com/evenement/ay-carmela-rosa-rosae-la-guerra-civil/
LOCATION:Cinéma Katorza\, 3 Rue Corneille\, Nantes\, 44000\, France
CATEGORIES:FCEN 2022,Rencontres en salles
END:VEVENT
BEGIN:VEVENT
DTSTART;TZID=Europe/Paris:20220311T160000
DTEND;TZID=Europe/Paris:20220311T160000
DTSTAMP:20260421T185419
CREATED:20220310T185624Z
LAST-MODIFIED:20220310T185624Z
UID:31466-1647014400-1647014400@www.cinespagnol-nantes.com
SUMMARY:A virxe roxa
DESCRIPTION:A virxe roxa de Marcos Nine\, suivi d’une rencontre avec le réalisateur
URL:https://www.cinespagnol-nantes.com/evenement/a-virxe-roxa/
LOCATION:Cinéma Katorza\, 3 Rue Corneille\, Nantes\, 44000\, France
CATEGORIES:FCEN 2022,Rencontres en salles
END:VEVENT
BEGIN:VEVENT
DTSTART;TZID=Europe/Paris:20220311T183000
DTEND;TZID=Europe/Paris:20220311T183000
DTSTAMP:20260421T185419
CREATED:20220310T190750Z
LAST-MODIFIED:20220310T190802Z
UID:31468-1647023400-1647023400@www.cinespagnol-nantes.com
SUMMARY:Sedimentos
DESCRIPTION:Sedimentos de Adrián Silvestre\, suivi d’une rencontre avec le réalisateur
URL:https://www.cinespagnol-nantes.com/evenement/sedimentos/
LOCATION:Cinéma Katorza\, 3 Rue Corneille\, Nantes\, 44000\, France
CATEGORIES:FCEN 2022,Rencontres en salles
END:VEVENT
BEGIN:VEVENT
DTSTART;TZID=Europe/Paris:20220311T205500
DTEND;TZID=Europe/Paris:20220311T205500
DTSTAMP:20260421T185419
CREATED:20220310T192332Z
LAST-MODIFIED:20220310T192332Z
UID:31474-1647032100-1647032100@www.cinespagnol-nantes.com
SUMMARY:L'esprit sacré / Espíritu sagrado
DESCRIPTION:L’esprit sacré / Espíritu sagrado de Chema García Ibarra\, suivi d’une rencontre avec le réalisateur
URL:https://www.cinespagnol-nantes.com/evenement/lesprit-sacre-espiritu-sagrado/
LOCATION:Cinéma Katorza\, 3 Rue Corneille\, Nantes\, 44000\, France
CATEGORIES:FCEN 2022,Rencontres en salles
END:VEVENT
BEGIN:VEVENT
DTSTART;TZID=Europe/Paris:20220312T110000
DTEND;TZID=Europe/Paris:20220312T110000
DTSTAMP:20260421T185419
CREATED:20220310T192849Z
LAST-MODIFIED:20220310T192849Z
UID:31476-1647082800-1647082800@www.cinespagnol-nantes.com
SUMMARY:¡Ay\, Carmela! & Rosa Rosae. La guerra civil
DESCRIPTION:¡Ay\, Carmela! de Carlos Saura (précédé du court-métrage Rosa Rosae. La guerra civil) en présence de Arantxa Aguirre
URL:https://www.cinespagnol-nantes.com/evenement/ay-carmela-rosa-rosae-la-guerra-civil-2/
LOCATION:Cinéma Katorza\, 3 Rue Corneille\, Nantes\, 44000\, France
CATEGORIES:FCEN 2022,Rencontres en salles
END:VEVENT
BEGIN:VEVENT
DTSTART;TZID=Europe/Paris:20220312T113000
DTEND;TZID=Europe/Paris:20220312T113000
DTSTAMP:20260421T185419
CREATED:20220310T193014Z
LAST-MODIFIED:20220310T193014Z
UID:31478-1647084600-1647084600@www.cinespagnol-nantes.com
SUMMARY:Sedimentos
DESCRIPTION:Sedimentos de Adrián Silvestre\, suivi d’une rencontre avec le réalisateur
URL:https://www.cinespagnol-nantes.com/evenement/sedimentos-2/
LOCATION:Cinéma Katorza\, 3 Rue Corneille\, Nantes\, 44000\, France
CATEGORIES:FCEN 2022,Rencontres en salles
END:VEVENT
BEGIN:VEVENT
DTSTART;TZID=Europe/Paris:20220312T140000
DTEND;TZID=Europe/Paris:20220312T140000
DTSTAMP:20260421T185419
CREATED:20220310T194136Z
LAST-MODIFIED:20240318T114152Z
UID:31485-1647093600-1647093600@www.cinespagnol-nantes.com
SUMMARY:El camino
DESCRIPTION:El camino de Ana Mariscal\, présenté par Emmanuel Larraz\, historien du cinéma
URL:https://www.cinespagnol-nantes.com/evenement/el-camino/
LOCATION:Cinéma Katorza\, 3 Rue Corneille\, Nantes\, 44000\, France
CATEGORIES:FCEN 2022,Rencontres en salles
END:VEVENT
BEGIN:VEVENT
DTSTART;TZID=Europe/Paris:20220312T160000
DTEND;TZID=Europe/Paris:20220312T160000
DTSTAMP:20260421T185419
CREATED:20220310T193237Z
LAST-MODIFIED:20220310T193948Z
UID:31480-1647100800-1647100800@www.cinespagnol-nantes.com
SUMMARY:Canto cósmico. Niño de Elche
DESCRIPTION:Canto cósmico. Niño de Elche de Marc Sempere et Leire Apellaniz\, suivi d’une rencontre avec le co-réalisateur
URL:https://www.cinespagnol-nantes.com/evenement/canto-cosmico-nino-de-elche/
LOCATION:Cinéma Katorza\, 3 Rue Corneille\, Nantes\, 44000\, France
CATEGORIES:FCEN 2022,Rencontres en salles
END:VEVENT
BEGIN:VEVENT
DTSTART;TZID=Europe/Paris:20220312T161000
DTEND;TZID=Europe/Paris:20220312T161000
DTSTAMP:20260421T185419
CREATED:20220310T231936Z
LAST-MODIFIED:20220310T231936Z
UID:31497-1647101400-1647101400@www.cinespagnol-nantes.com
SUMMARY:Libertad
DESCRIPTION:Libertad de Clara Roquet\, présenté par Pilar Martínez-Vasseur
URL:https://www.cinespagnol-nantes.com/evenement/libertad/
LOCATION:Cinéma Katorza\, 3 Rue Corneille\, Nantes\, 44000\, France
CATEGORIES:FCEN 2022,Rencontres en salles
END:VEVENT
BEGIN:VEVENT
DTSTART;TZID=Europe/Paris:20220313T110000
DTEND;TZID=Europe/Paris:20220313T110000
DTSTAMP:20260421T185419
CREATED:20220310T225654Z
LAST-MODIFIED:20220310T225826Z
UID:31488-1647169200-1647169200@www.cinespagnol-nantes.com
SUMMARY:Goya en Burdeos & Goya 3 de mayo
DESCRIPTION:Goya en Burdeos de Carlos Saura (précédé du court-métrage Goya 3 de mayo)\, présentés par Emmanuel Larraz\, historien du cinéma
URL:https://www.cinespagnol-nantes.com/evenement/goya-en-burdeos-goya-3-de-mayo/
LOCATION:Cinéma Katorza\, 3 Rue Corneille\, Nantes\, 44000\, France
CATEGORIES:FCEN 2022,Rencontres en salles
END:VEVENT
BEGIN:VEVENT
DTSTART;TZID=Europe/Paris:20220313T154500
DTEND;TZID=Europe/Paris:20220313T154500
DTSTAMP:20260421T185419
CREATED:20220310T230315Z
LAST-MODIFIED:20220310T232319Z
UID:31500-1647186300-1647186300@www.cinespagnol-nantes.com
SUMMARY:Hondar ahoak 1-2/4
DESCRIPTION:Hondar ahoak de Koldo Almandoz (épisodes 1/4 + 2/4)\, en présence du réalisateur \nPremière partie de la série
URL:https://www.cinespagnol-nantes.com/evenement/hondar-ahoak-1-2-4/
LOCATION:Cinéma Katorza\, 3 Rue Corneille\, Nantes\, 44000\, France
CATEGORIES:FCEN 2022,Rencontres en salles
END:VEVENT
BEGIN:VEVENT
DTSTART;TZID=Europe/Paris:20220313T181000
DTEND;TZID=Europe/Paris:20220313T181000
DTSTAMP:20260421T185419
CREATED:20220310T230532Z
LAST-MODIFIED:20220313T181017Z
UID:31502-1647195000-1647195000@www.cinespagnol-nantes.com
SUMMARY:Hondar ahoak (3+4/4)
DESCRIPTION:Hondar ahoak de Koldo Almandoz (épisodes 3/4 + 4/4)\, suivi d’une rencontre avec le réalisateur \nDeuxième partie de la série
URL:https://www.cinespagnol-nantes.com/evenement/hondar-ahoak-3-4-4/
LOCATION:Cinéma Katorza\, 3 Rue Corneille\, Nantes\, 44000\, France
CATEGORIES:FCEN 2022,Rencontres en salles
END:VEVENT
BEGIN:VEVENT
DTSTART;TZID=Europe/Paris:20220313T204500
DTEND;TZID=Europe/Paris:20220313T204500
DTSTAMP:20260421T185419
CREATED:20220310T230922Z
LAST-MODIFIED:20220310T230950Z
UID:31506-1647204300-1647204300@www.cinespagnol-nantes.com
SUMMARY:Buñuel\, un cineasta surrealista
DESCRIPTION:Buñuel\, un cineasta surrealista de Javier Espada\, présenté par le réalisateur
URL:https://www.cinespagnol-nantes.com/evenement/bunuel-un-cineasta-surrealista-2/
LOCATION:Cinéma Katorza\, 3 Rue Corneille\, Nantes\, 44000\, France
CATEGORIES:FCEN 2022,Rencontres en salles
END:VEVENT
BEGIN:VEVENT
DTSTART;TZID=Europe/Paris:20220314T203000
DTEND;TZID=Europe/Paris:20220314T203000
DTSTAMP:20260421T185419
CREATED:20220310T195222Z
LAST-MODIFIED:20220310T232843Z
UID:31486-1647289800-1647289800@www.cinespagnol-nantes.com
SUMMARY:Josefina
DESCRIPTION:Josefina de Javier Marco\, suivi d’une rencontre avec le réalisateur
URL:https://www.cinespagnol-nantes.com/evenement/bunuel-un-cineasta-surrealista/
LOCATION:Cinéma Katorza\, 3 Rue Corneille\, Nantes\, 44000\, France
CATEGORIES:FCEN 2022,Rencontres en salles
END:VEVENT
BEGIN:VEVENT
DTSTART;TZID=Europe/Paris:20220315T190000
DTEND;TZID=Europe/Paris:20220315T190000
DTSTAMP:20260421T185419
CREATED:20220313T173147Z
LAST-MODIFIED:20220315T180454Z
UID:31680-1647370800-1647370800@www.cinespagnol-nantes.com
SUMMARY:Qui à part nous / Quién lo impide
DESCRIPTION:Qui à part nous / Quién lo impide de Jonás Trueba\, suivi d’une rencontre avec le réalisateur
URL:https://www.cinespagnol-nantes.com/evenement/qui-a-part-nous-quien-lo-impide/
LOCATION:Cinéma Katorza\, 3 Rue Corneille\, Nantes\, 44000\, France
CATEGORIES:FCEN 2022,Rencontres en salles
END:VEVENT
BEGIN:VEVENT
DTSTART;TZID=Europe/Paris:20220316T183000
DTEND;TZID=Europe/Paris:20220316T183000
DTSTAMP:20260421T185419
CREATED:20220313T174457Z
LAST-MODIFIED:20220313T181027Z
UID:31683-1647455400-1647455400@www.cinespagnol-nantes.com
SUMMARY:Los desastres de la guerra (1+ 2/6)
DESCRIPTION:Los desastres de la guerra de Mario Camus (épisodes 1/6 + 2/6) en présence de José Luis Sánchez Noriega
URL:https://www.cinespagnol-nantes.com/evenement/los-desastres-de-la-guerra/
LOCATION:Cinéma Katorza\, 3 Rue Corneille\, Nantes\, 44000\, France
CATEGORIES:FCEN 2022,Rencontres en salles
END:VEVENT
BEGIN:VEVENT
DTSTART;TZID=Europe/Paris:20220316T201500
DTEND;TZID=Europe/Paris:20220316T201500
DTSTAMP:20260421T185419
CREATED:20220313T174851Z
LAST-MODIFIED:20220313T175948Z
UID:31687-1647461700-1647461700@www.cinespagnol-nantes.com
SUMMARY:Destello bravío
DESCRIPTION:Destello bravío de Ainhoa Rodríguez\, suivi d’une rencontre avec la réalisatrice
URL:https://www.cinespagnol-nantes.com/evenement/destello-bravio/
LOCATION:Cinéma Katorza\, 3 Rue Corneille\, Nantes\, 44000\, France
CATEGORIES:FCEN 2022,Rencontres en salles
END:VEVENT
BEGIN:VEVENT
DTSTART;TZID=Europe/Paris:20220316T205500
DTEND;TZID=Europe/Paris:20220316T205500
DTSTAMP:20260421T185419
CREATED:20220313T175039Z
LAST-MODIFIED:20220313T175943Z
UID:31690-1647464100-1647464100@www.cinespagnol-nantes.com
SUMMARY:Ilargi guztiak
DESCRIPTION:Ilargi guztiak de Igor Legarreta suivi d’une rencontre avec le réalisateur
URL:https://www.cinespagnol-nantes.com/evenement/ilargi-guztiak/
LOCATION:Cinéma Katorza\, 3 Rue Corneille\, Nantes\, 44000\, France
CATEGORIES:FCEN 2022,Rencontres en salles
END:VEVENT
BEGIN:VEVENT
DTSTART;TZID=Europe/Paris:20220317T184500
DTEND;TZID=Europe/Paris:20220317T184500
DTSTAMP:20260421T185419
CREATED:20220313T175349Z
LAST-MODIFIED:20220315T180438Z
UID:31692-1647542700-1647542700@www.cinespagnol-nantes.com
SUMMARY:En décalage / Tres
DESCRIPTION:En décalage / Tres de Juanjo Giménez\, suivi d’une rencontre avec l’actrice Marta Nieto
URL:https://www.cinespagnol-nantes.com/evenement/en-decalage-tres/
LOCATION:Cinéma Katorza\, 3 Rue Corneille\, Nantes\, 44000\, France
CATEGORIES:FCEN 2022,Rencontres en salles
END:VEVENT
BEGIN:VEVENT
DTSTART;TZID=Europe/Paris:20220317T190000
DTEND;TZID=Europe/Paris:20220317T190000
DTSTAMP:20260421T185419
CREATED:20220313T175901Z
LAST-MODIFIED:20220313T180027Z
UID:31697-1647543600-1647543600@www.cinespagnol-nantes.com
SUMMARY:Libertad
DESCRIPTION:Libertad de Clara Roquet\, en présence de la réalisatrice
URL:https://www.cinespagnol-nantes.com/evenement/libertad-2/
LOCATION:Cinéma Katorza\, 3 Rue Corneille\, Nantes\, 44000\, France
CATEGORIES:FCEN 2022,Rencontres en salles
END:VEVENT
BEGIN:VEVENT
DTSTART;TZID=Europe/Paris:20220318T163000
DTEND;TZID=Europe/Paris:20220318T163000
DTSTAMP:20260421T185419
CREATED:20220313T181547Z
LAST-MODIFIED:20220313T181737Z
UID:31713-1647621000-1647621000@www.cinespagnol-nantes.com
SUMMARY:Mario Camus\, según el cine
DESCRIPTION:Mario Camus\, según el cine de Sigfrid Monleón\, en présence de José Luis Sánchez Noriega
URL:https://www.cinespagnol-nantes.com/evenement/mario-camus-segun-el-cine/
LOCATION:Cinéma Katorza\, 3 Rue Corneille\, Nantes\, 44000\, France
CATEGORIES:FCEN 2022,Rencontres en salles
END:VEVENT
BEGIN:VEVENT
DTSTART;TZID=Europe/Paris:20220318T184500
DTEND;TZID=Europe/Paris:20220318T184500
DTSTAMP:20260421T185419
CREATED:20220313T181843Z
LAST-MODIFIED:20220313T181843Z
UID:31715-1647629100-1647629100@www.cinespagnol-nantes.com
SUMMARY:Los santos inocentes
DESCRIPTION:Los santos inocentes de Mario Camus\, en présence de José Luis Sánchez Noriega
URL:https://www.cinespagnol-nantes.com/evenement/los-santos-inocentes/
LOCATION:Cinéma Katorza\, 3 Rue Corneille\, Nantes\, 44000\, France
CATEGORIES:FCEN 2022,Rencontres en salles
END:VEVENT
BEGIN:VEVENT
DTSTART;TZID=Europe/Paris:20220318T210000
DTEND;TZID=Europe/Paris:20220318T210000
DTSTAMP:20260421T185419
CREATED:20220313T182322Z
LAST-MODIFIED:20220313T182322Z
UID:31722-1647637200-1647637200@www.cinespagnol-nantes.com
SUMMARY:También la lluvia
DESCRIPTION:También la lluvia de Icíar Bollaín suivi d’une rencontre avec la réalisatrice
URL:https://www.cinespagnol-nantes.com/evenement/tambien-la-lluvia/
LOCATION:Cinéma Katorza\, 3 Rue Corneille\, Nantes\, 44000\, France
CATEGORIES:FCEN 2022,Rencontres en salles
END:VEVENT
BEGIN:VEVENT
DTSTART;TZID=Europe/Paris:20220319T111000
DTEND;TZID=Europe/Paris:20220319T111000
DTSTAMP:20260421T185419
CREATED:20220313T182537Z
LAST-MODIFIED:20220313T182627Z
UID:31724-1647688200-1647688200@www.cinespagnol-nantes.com
SUMMARY:También la lluvia
DESCRIPTION:También la lluvia de Icíar Bollaín\, en présence de la réalisatrice
URL:https://www.cinespagnol-nantes.com/evenement/tambien-la-lluvia-2/
LOCATION:Cinéma Katorza\, 3 Rue Corneille\, Nantes\, 44000\, France
CATEGORIES:FCEN 2022,Rencontres en salles
END:VEVENT
BEGIN:VEVENT
DTSTART;TZID=Europe/Paris:20220319T161500
DTEND;TZID=Europe/Paris:20220319T161500
DTSTAMP:20260421T185419
CREATED:20220313T182833Z
LAST-MODIFIED:20220313T182933Z
UID:31726-1647706500-1647706500@www.cinespagnol-nantes.com
SUMMARY:Sis dies corrents
DESCRIPTION:Sis dies corrents de Neus Ballús en présence de la réalisatrice
URL:https://www.cinespagnol-nantes.com/evenement/sis-dies-corrents/
LOCATION:Cinéma Katorza\, 3 Rue Corneille\, Nantes\, 44000\, France
CATEGORIES:FCEN 2022,Rencontres en salles
END:VEVENT
BEGIN:VEVENT
DTSTART;TZID=Europe/Paris:20220319T181500
DTEND;TZID=Europe/Paris:20220319T181500
DTSTAMP:20260421T185419
CREATED:20220313T183314Z
LAST-MODIFIED:20220315T180608Z
UID:31730-1647713700-1647713700@www.cinespagnol-nantes.com
SUMMARY:Les repentis / Maixabel
DESCRIPTION:Les repentis / Maixabel de Icíar Bollaín\, en présence de la réalisatrice et de Maixabel Lasa
URL:https://www.cinespagnol-nantes.com/evenement/les-repentis-maixabel/
LOCATION:Cinéma Katorza\, 3 Rue Corneille\, Nantes\, 44000\, France
CATEGORIES:FCEN 2022,Rencontres en salles
END:VEVENT
END:VCALENDAR