BEGIN:VCALENDAR
VERSION:2.0
PRODID:-//Festival du Cinéma Espagnol de Nantes - ECPv6.10.2//NONSGML v1.0//EN
CALSCALE:GREGORIAN
METHOD:PUBLISH
X-ORIGINAL-URL:https://www.cinespagnol-nantes.com
X-WR-CALDESC:Évènements pour Festival du Cinéma Espagnol de Nantes
REFRESH-INTERVAL;VALUE=DURATION:PT1H
X-Robots-Tag:noindex
X-PUBLISHED-TTL:PT1H
BEGIN:VTIMEZONE
TZID:Europe/Paris
BEGIN:DAYLIGHT
TZOFFSETFROM:+0100
TZOFFSETTO:+0200
TZNAME:CEST
DTSTART:20220327T010000
END:DAYLIGHT
BEGIN:STANDARD
TZOFFSETFROM:+0200
TZOFFSETTO:+0100
TZNAME:CET
DTSTART:20221030T010000
END:STANDARD
END:VTIMEZONE
BEGIN:VEVENT
DTSTART;TZID=Europe/Paris:20220320T183000
DTEND;TZID=Europe/Paris:20220320T183000
DTSTAMP:20260426T010032
CREATED:20220313T183924Z
LAST-MODIFIED:20220313T183948Z
UID:31736-1647801000-1647801000@www.cinespagnol-nantes.com
SUMMARY:Cérémonie de clôture et remise des prix
DESCRIPTION:Cérémonie de clôture et remise des prix\, suivie de la projection de Mediterráneo de Marcel Barrena
URL:https://www.cinespagnol-nantes.com/evenement/ceremonie-de-cloture-et-remise-des-prix/
LOCATION:Cinéma Katorza\, 3 Rue Corneille\, Nantes\, 44000\, France
CATEGORIES:Événements,FCEN 2022
END:VEVENT
BEGIN:VEVENT
DTSTART;TZID=Europe/Paris:20220320T194500
DTEND;TZID=Europe/Paris:20220320T194500
DTSTAMP:20260426T010032
CREATED:20220313T184127Z
LAST-MODIFIED:20220313T184127Z
UID:31741-1647805500-1647805500@www.cinespagnol-nantes.com
SUMMARY:Soirée de clôture
DESCRIPTION:Soirée de clôture suivie de la projection de Mediterráneo de Marcel Barrena
URL:https://www.cinespagnol-nantes.com/evenement/soiree-de-cloture/
LOCATION:Cinéma Katorza\, 3 Rue Corneille\, Nantes\, 44000\, France
CATEGORIES:Événements,FCEN 2022
END:VEVENT
END:VCALENDAR