BEGIN:VCALENDAR
VERSION:2.0
PRODID:-//Festival du Cinéma Espagnol de Nantes - ECPv6.10.2//NONSGML v1.0//EN
CALSCALE:GREGORIAN
METHOD:PUBLISH
X-ORIGINAL-URL:https://www.cinespagnol-nantes.com
X-WR-CALDESC:Évènements pour Festival du Cinéma Espagnol de Nantes
REFRESH-INTERVAL;VALUE=DURATION:PT1H
X-Robots-Tag:noindex
X-PUBLISHED-TTL:PT1H
BEGIN:VTIMEZONE
TZID:Europe/Paris
BEGIN:DAYLIGHT
TZOFFSETFROM:+0100
TZOFFSETTO:+0200
TZNAME:CEST
DTSTART:20220327T010000
END:DAYLIGHT
BEGIN:STANDARD
TZOFFSETFROM:+0200
TZOFFSETTO:+0100
TZNAME:CET
DTSTART:20221030T010000
END:STANDARD
END:VTIMEZONE
BEGIN:VEVENT
DTSTART;TZID=Europe/Paris:20220308T201500
DTEND;TZID=Europe/Paris:20220308T201500
DTSTAMP:20260426T010034
CREATED:20220310T181114Z
LAST-MODIFIED:20220310T181931Z
UID:31451-1646770500-1646770500@www.cinespagnol-nantes.com
SUMMARY:Soirée d'ouverture
DESCRIPTION:Soirée d’ouverture au Cinéma Katorza suivie de la projection de El buen patrón de Fernando León de Aranoa\, en présence de l’actrice Almudena Amor
URL:https://www.cinespagnol-nantes.com/evenement/soiree-douverture/
LOCATION:Cinéma Katorza\, 3 Rue Corneille\, Nantes\, 44000\, France
CATEGORIES:Événements,FCEN 2022
END:VEVENT
END:VCALENDAR